BEGIN:VCALENDAR
VERSION:2.0
PRODID:-//Plone.org//NONSGML plone.app.event//EN
X-WR-TIMEZONE:Europe/Vienna
BEGIN:VEVENT
SUMMARY:PhD in Praxis\, Akademie der bildenden Künste Wien
DTSTART;TZID=Europe/Vienna:20240125T170000
DTSTAMP:20260424T031217Z
UID:e4fad8c75c474bce953e3d6c9ba0d8b6@www.akbild.ac.at
CATEGORIES:Vorträge / Veranstaltungen
CREATED:20231025T111408Z
DESCRIPTION:Informationsveranstaltung zum Bewerbungszeitraum: 1.-29. Febru
 ar 2024Beginn des Studiums: 1. Oktober 2024
LAST-MODIFIED:20240919T081334Z
URL:https://www.akbild.ac.at/de/institute/kunst-und-kulturwissenschaften/v
 eranstaltungen/vortrage-events/2023/copy_of_phd-in-praxis-akademie-der-bil
 denden-kuenste-wien
END:VEVENT
BEGIN:VTIMEZONE
TZID:Europe/Vienna
X-LIC-LOCATION:Europe/Vienna
BEGIN:STANDARD
DTSTART:20231029T020000
TZNAME:CET
TZOFFSETFROM:+0200
TZOFFSETTO:+0100
END:STANDARD
END:VTIMEZONE
END:VCALENDAR
