BEGIN:VCALENDAR
VERSION:2.0
PRODID:-//Plone.org//NONSGML plone.app.event//EN
X-WR-TIMEZONE:Europe/Vienna
BEGIN:VEVENT
SUMMARY:Diffracted remainders of the subject? Beings in common\, relations
 \, and transformations
DTSTART;VALUE=DATE:20231003
DTEND;VALUE=DATE:20231004
DTSTAMP:20260423T084744Z
UID:20d9714f355d404fa5f3cb179bfb7a82@www.akbild.ac.at
CATEGORIES:Konferenzen
CREATED:20230925T090955Z
DESCRIPTION:Wie können wir angesichts der beunruhigenden Geschichte des (
 subjekt-)befreienden Denkens Handlungsfähigkeit\, Widerstand und Freiheit
  begreifen? Konferenzsprache Englisch. Mit freundlicher Unterstützung der
  Akademie der bildenden Künste Wien.
LAST-MODIFIED:20241008T074717Z
URL:https://www.akbild.ac.at/de/institute/kunst-und-kulturwissenschaften/v
 eranstaltungen/vortrage-events/2023/diffracted-remainders-of-the-subject-b
 eings-in-common-relations-and-transformations
END:VEVENT
END:VCALENDAR
