BEGIN:VCALENDAR
VERSION:2.0
PRODID:-//Plone.org//NONSGML plone.app.event//EN
X-WR-TIMEZONE:Europe/Vienna
BEGIN:VEVENT
SUMMARY:Fantastic Wednesday
DTSTART;TZID=Europe/Vienna:20230111T190000
DTSTAMP:20260426T021342Z
UID:a5c7d51bfb8b44db978a8b1a7890f388@www.akbild.ac.at
CATEGORIES:Vorträge / Veranstaltungen
CREATED:20221209T100158Z
DESCRIPTION:Das PhD-in-Practice &amp\; Depot-Kunst und Diskussion laden zu
 m Fantastic Wednesday mit Mohamed AbdelkarimUnbearable future slipping thr
 ough my fingers // Auf Englisch
LAST-MODIFIED:20240919T081334Z
URL:https://www.akbild.ac.at/de/institute/kunst-und-kulturwissenschaften/v
 eranstaltungen/vortrage-events/2023/fantastic-wednesday
END:VEVENT
BEGIN:VTIMEZONE
TZID:Europe/Vienna
X-LIC-LOCATION:Europe/Vienna
BEGIN:STANDARD
DTSTART:20221030T020000
TZNAME:CET
TZOFFSETFROM:+0200
TZOFFSETTO:+0100
END:STANDARD
END:VTIMEZONE
END:VCALENDAR
