BEGIN:VCALENDAR
VERSION:2.0
PRODID:-//Plone.org//NONSGML plone.app.event//EN
X-WR-TIMEZONE:Europe/Vienna
BEGIN:VEVENT
SUMMARY:Painted Caves as Media
DTSTART;TZID=Europe/Vienna:20231005T180000
DTSTAMP:20260424T005401Z
UID:97b2c445cf0148208070115bd8493574@www.akbild.ac.at
CATEGORIES:Vorträge / Veranstaltungen
CREATED:20231002T051941Z
DESCRIPTION:Vortrag von Dr. Stuart Kendall
LAST-MODIFIED:20240919T081334Z
URL:https://www.akbild.ac.at/de/institute/kunst-und-kulturwissenschaften/v
 eranstaltungen/vortrage-events/2023/painted-caves-as-media
END:VEVENT
BEGIN:VTIMEZONE
TZID:Europe/Vienna
X-LIC-LOCATION:Europe/Vienna
BEGIN:DAYLIGHT
DTSTART:20230326T030000
TZNAME:CEST
TZOFFSETFROM:+0100
TZOFFSETTO:+0200
END:DAYLIGHT
END:VTIMEZONE
END:VCALENDAR
