BEGIN:VCALENDAR
VERSION:2.0
PRODID:-//Plone.org//NONSGML plone.app.event//EN
X-WR-TIMEZONE:Europe/Vienna
BEGIN:VEVENT
SUMMARY:Exhibition History from an Intersectional Perspective. Questions\,
  Examples\, and Some Suggestions
DTSTART;TZID=Europe/Vienna:20241128T183000
DTSTAMP:20260424T005401Z
UID:ed53ceec20f34dc1bab74ffe42c973c7@www.akbild.ac.at
CATEGORIES:Vorträge / Veranstaltungen
CREATED:20241107T123338Z
DESCRIPTION:Vortrag von Fiona McGovern zur Ausstellungsgeschichte aus inte
 rsektionaler Perspektive\, organisiert von Maria Bremer (Universität für
  angewandte Kunst Wien) und Isabelle Lindermann (Akademie der bildenden K
 ünste\, Institut für Kunst- und Kulturwissenschaften).
LAST-MODIFIED:20241107T141705Z
URL:https://www.akbild.ac.at/de/institute/kunst-und-kulturwissenschaften/v
 eranstaltungen/vortrage-events/2024/exhibition-history-from-an-intersectio
 nal-perspective
END:VEVENT
BEGIN:VTIMEZONE
TZID:Europe/Vienna
X-LIC-LOCATION:Europe/Vienna
BEGIN:STANDARD
DTSTART:20241027T020000
TZNAME:CET
TZOFFSETFROM:+0200
TZOFFSETTO:+0100
END:STANDARD
END:VTIMEZONE
END:VCALENDAR
