BEGIN:VCALENDAR
VERSION:2.0
PRODID:-//Plone.org//NONSGML plone.app.event//EN
X-WR-TIMEZONE:Europe/Vienna
BEGIN:VEVENT
SUMMARY:Lecture by Valery Vino: Fentanyl. Social Somanaesthetic
DTSTART;TZID=Europe/Vienna:20241216T180000
DTSTAMP:20260422T014833Z
UID:a5295a97cdbf4385b89d5d29aa80a99e@www.akbild.ac.at
CATEGORIES:Vorträge / Veranstaltungen
CREATED:20241210T080705Z
DESCRIPTION:Vortrag mit anschließender Diskussion\, organisiert vom Insti
 tut für Kunst- und Kulturwissenschaften.
LAST-MODIFIED:20241210T081939Z
URL:https://www.akbild.ac.at/de/institute/kunst-und-kulturwissenschaften/v
 eranstaltungen/vortrage-events/2024/lecture-by-valery-vino-fentanyl-social
 -somanaesthetic
END:VEVENT
BEGIN:VTIMEZONE
TZID:Europe/Vienna
X-LIC-LOCATION:Europe/Vienna
BEGIN:STANDARD
DTSTART:20241027T020000
TZNAME:CET
TZOFFSETFROM:+0200
TZOFFSETTO:+0100
END:STANDARD
END:VTIMEZONE
END:VCALENDAR
