BEGIN:VCALENDAR
VERSION:2.0
PRODID:-//Plone.org//NONSGML plone.app.event//EN
X-WR-TIMEZONE:Europe/Vienna
BEGIN:VEVENT
SUMMARY:OFF_screen mit Heidrun Holzfeind
DTSTART;TZID=Europe/Vienna:20241210T180000
DTEND;TZID=Europe/Vienna:20241210T200000
DTSTAMP:20260424T114254Z
UID:276e9edb467f424d8650f10ffcb94486@www.akbild.ac.at
CATEGORIES:Vorträge / Veranstaltungen
CREATED:20241120T120802Z
DESCRIPTION:Zoom Webinar von Off_screen (Karø  Goldt und Michaela Schwen
 tner) in begleitender Kooperation mit der Akademie der bildenden Künste W
 ien / Sabeth Buchmann (IKW)
LAST-MODIFIED:20241203T142709Z
URL:https://www.akbild.ac.at/de/institute/kunst-und-kulturwissenschaften/v
 eranstaltungen/vortrage-events/2024/off_screen-mit-heidrun-holzfeind
END:VEVENT
BEGIN:VTIMEZONE
TZID:Europe/Vienna
X-LIC-LOCATION:Europe/Vienna
BEGIN:STANDARD
DTSTART:20241027T020000
TZNAME:CET
TZOFFSETFROM:+0200
TZOFFSETTO:+0100
END:STANDARD
END:VTIMEZONE
END:VCALENDAR
