BEGIN:VCALENDAR
VERSION:2.0
PRODID:-//Plone.org//NONSGML plone.app.event//EN
X-WR-TIMEZONE:Europe/Vienna
BEGIN:VEVENT
SUMMARY:[em]But the Main Thing is I had the Knowledge[/em]: Gertrude Lange
 r\, Cultural Translation and the Emerging Art Sector in postwar Australia
DTSTART;TZID=Europe/Vienna:20250611T183000
DTSTAMP:20260425T160426Z
UID:c8d156ca04f248048b09786c78e489e8@www.akbild.ac.at
CATEGORIES:Vorträge / Veranstaltungen
CREATED:20250321T082816Z
DESCRIPTION:Ein Vortrag von Philipp Strobl\, organisiert von Noit Banai\, 
 Professor of Diaspora Aesthetics\, Institut für Kunst- und Kulturwissensc
 haften\,  im Rahmen von "Diaspora Kitchen".
LAST-MODIFIED:20250321T090212Z
URL:https://www.akbild.ac.at/de/institute/kunst-und-kulturwissenschaften/v
 eranstaltungen/vortrage-events/2025/but-the-main-thing-is-i-had-the-knowle
 dge
END:VEVENT
BEGIN:VTIMEZONE
TZID:Europe/Vienna
X-LIC-LOCATION:Europe/Vienna
BEGIN:DAYLIGHT
DTSTART:20250330T030000
TZNAME:CEST
TZOFFSETFROM:+0100
TZOFFSETTO:+0200
END:DAYLIGHT
END:VTIMEZONE
END:VCALENDAR
