BEGIN:VCALENDAR
VERSION:2.0
PRODID:-//Plone.org//NONSGML plone.app.event//EN
X-WR-TIMEZONE:Europe/Vienna
BEGIN:VEVENT
SUMMARY:MA Critical Studies Lecture Series: Noura Salahaldeen [em]Naseej. 
 Life-Weavings of Palestine[/em]
DTSTART;TZID=Europe/Vienna:20251030T183000
DTSTAMP:20260423T103749Z
UID:fc870ec312c841d9b4adf63b94ddb6d2@www.akbild.ac.at
CATEGORIES:Vorträge / Veranstaltungen
CREATED:20251022T075506Z
DESCRIPTION:Die studentisch organisierte Lecture Series lädt ein zu einer
  Buchpräsentation mit moderierten Gespräch mit Autorin und Forscherin No
 ura Salahaldeen.
LAST-MODIFIED:20251105T121734Z
URL:https://www.akbild.ac.at/de/institute/kunst-und-kulturwissenschaften/v
 eranstaltungen/vortrage-events/2025/ma-critical-studies-lecture-series-nou
 ra-salahaldeen-naseej-life-weavings-of-palestine
END:VEVENT
BEGIN:VTIMEZONE
TZID:Europe/Vienna
X-LIC-LOCATION:Europe/Vienna
BEGIN:STANDARD
DTSTART:20251026T020000
TZNAME:CET
TZOFFSETFROM:+0200
TZOFFSETTO:+0100
END:STANDARD
END:VTIMEZONE
END:VCALENDAR
