BEGIN:VCALENDAR
VERSION:2.0
PRODID:-//Plone.org//NONSGML plone.app.event//EN
X-WR-TIMEZONE:Europe/Vienna
BEGIN:VEVENT
SUMMARY:Für die Freiheit: Kampf gegen die Korruption. Studierende und sta
 atliche Gewalt in Serbien
DTSTART;TZID=Europe/Vienna:20260413T183000
DTSTAMP:20260422T043639Z
UID:e8850b7f6aa04dc9b7f934f93b1b71f7@www.akbild.ac.at
CATEGORIES:Vorträge / Veranstaltungen
CREATED:20260312T125636Z
DESCRIPTION:Vortrag von Olja Triaška Stefanović\, organisiert vom Instit
 ut für Kunst- und Kulturwissenschaften. Der Vortrag ist Teil der Wien-wei
 ten Initiative Days of Attention: Rethinking Politics - Student Protests 
 in Serbia : https://zeitgeschichte.univie.ac.at/en/news-events/days-of-att
 ention-student-protests-in-serbia/
LAST-MODIFIED:20260312T131148Z
URL:https://www.akbild.ac.at/de/institute/kunst-und-kulturwissenschaften/v
 eranstaltungen/vortrage-events/2026/fuer-die-freiheit-kampf-gegen-die-korr
 uption-studierende-und-staatliche-gewalt-in-serbien
END:VEVENT
BEGIN:VTIMEZONE
TZID:Europe/Vienna
X-LIC-LOCATION:Europe/Vienna
BEGIN:DAYLIGHT
DTSTART:20260329T030000
TZNAME:CEST
TZOFFSETFROM:+0100
TZOFFSETTO:+0200
END:DAYLIGHT
END:VTIMEZONE
END:VCALENDAR
