BEGIN:VCALENDAR
VERSION:2.0
PRODID:-//Plone.org//NONSGML plone.app.event//EN
X-WR-TIMEZONE:Europe/Vienna
BEGIN:VEVENT
SUMMARY:Vorstellung und Diskussion des Buchs [em]Philosophie und Rassismus
 . Debatten und Kontroversen (2025)[/em]
DTSTART;TZID=Europe/Vienna:20260330T180000
DTEND;TZID=Europe/Vienna:20260330T200000
DTSTAMP:20260423T101435Z
UID:bb16fd743b6047cd82397c259af4183b@www.akbild.ac.at
CATEGORIES:Vorträge / Veranstaltungen
CREATED:20260309T101835Z
DESCRIPTION:In Kooperation mit Polylog. Zeitschrift für Interkulturelles
  Philosophieren\, organisiert vom Institut für Kunst- und Kulturwissensch
 aften.
LAST-MODIFIED:20260309T132520Z
URL:https://www.akbild.ac.at/de/institute/kunst-und-kulturwissenschaften/v
 eranstaltungen/vortrage-events/2026/vorstellung-philosophie-und-rassismus-
 2025
END:VEVENT
BEGIN:VTIMEZONE
TZID:Europe/Vienna
X-LIC-LOCATION:Europe/Vienna
BEGIN:DAYLIGHT
DTSTART:20260329T030000
TZNAME:CEST
TZOFFSETFROM:+0100
TZOFFSETTO:+0200
END:DAYLIGHT
END:VTIMEZONE
END:VCALENDAR
