BEGIN:VCALENDAR
VERSION:2.0
PRODID:-//Plone.org//NONSGML plone.app.event//EN
X-WR-TIMEZONE:Europe/Vienna
BEGIN:VEVENT
SUMMARY:Rassismus als Bildungsraum
DTSTART;TZID=Europe/Vienna:20080505T190000
DTSTAMP:20260425T222233Z
UID:ba65cd8e19d5be53e8256754baf051ed@www.akbild.ac.at
CATEGORIES:Vorträge / Veranstaltungen
CREATED:20220312T093645Z
DESCRIPTION:Paul Mecheril | Univ.-Professor für Interkulturelles Lernen u
 nd Sozialer\n \n Wandel an der Universität Innsbruck\, Schwerpunkte: Migr
 ationsforschung\, Cultural Studies.\n \n Im Rahmen der Vortragsreihe Kolle
 ktives Widerstandslernen organisieren! Konzipiert von Petja Dimitrova\, Ev
 a Egermann und Nora Sternfeld (als Kooperation des Instituts für das Kün
 stlerische Lehramt und dem Ordinariat für Konzeptuelle Kunst an der Akade
 mie der bildenden Künste Wien)
LAST-MODIFIED:20240919T081314Z
URL:https://www.akbild.ac.at/de/institute/kunstlerisches-lehramt/veranstal
 tungen/aktuelles/2008/akbild_event.2008-04-25.9987685475
END:VEVENT
BEGIN:VTIMEZONE
TZID:Europe/Vienna
X-LIC-LOCATION:Europe/Vienna
BEGIN:DAYLIGHT
DTSTART:20080330T030000
TZNAME:CEST
TZOFFSETFROM:+0100
TZOFFSETTO:+0200
END:DAYLIGHT
END:VTIMEZONE
END:VCALENDAR
