BEGIN:VCALENDAR
VERSION:2.0
PRODID:-//Plone.org//NONSGML plone.app.event//EN
X-WR-TIMEZONE:Europe/Vienna
BEGIN:VEVENT
SUMMARY:McLaren meets Murakami: 30 Jahre Selbstverstümmelung – Vom Punk
  zum Otaku
DTSTART;TZID=Europe/Vienna:20080623T190000
DTSTAMP:20260424T130631Z
UID:b86fb6af5773735dd6ff17f8a0b493e6@www.akbild.ac.at
CATEGORIES:Vorträge / Veranstaltungen
CREATED:20220312T093649Z
DESCRIPTION:Dick Hebdige an der Akademie der bildenden Künste Wien\n \n E
 inführung: Martin Beck\, Institut für das künstlerische Lehramt
LAST-MODIFIED:20240919T081314Z
URL:https://www.akbild.ac.at/de/institute/kunstlerisches-lehramt/veranstal
 tungen/aktuelles/2008/akbild_event.2008-05-25.2750939355
END:VEVENT
BEGIN:VTIMEZONE
TZID:Europe/Vienna
X-LIC-LOCATION:Europe/Vienna
BEGIN:DAYLIGHT
DTSTART:20080330T030000
TZNAME:CEST
TZOFFSETFROM:+0100
TZOFFSETTO:+0200
END:DAYLIGHT
END:VTIMEZONE
END:VCALENDAR
