BEGIN:VCALENDAR
VERSION:2.0
PRODID:-//Plone.org//NONSGML plone.app.event//EN
X-WR-TIMEZONE:Europe/Vienna
BEGIN:VEVENT
SUMMARY:Fareed Armaly
DTSTART;TZID=Europe/Vienna:20080605T130000
DTSTAMP:20260426T021515Z
UID:50dc3af72f93a61549cba4f33a4dd0c6@www.akbild.ac.at
CATEGORIES:Vorträge / Veranstaltungen
CREATED:20220312T093647Z
DESCRIPTION:Fareed Armaly ist Künstler\, Kurator und Autor. Er lebt und a
 rbeitet in Berlin.\n \n \n Am Freitag\, dem 6. Juni 2008 ab 10:30 findet a
 m Institut für bildende Kunst eine weitere Veranstaltung mit Fareed Armal
 y statt\, in welcher dieser Projekte aus den letzten Jahren vorstellt. (IB
 K\, Medienklasse / 1. Etage\, Lehàrgasse 6 - 8\, 1060 Wien)
LAST-MODIFIED:20240919T081314Z
URL:https://www.akbild.ac.at/de/institute/kunstlerisches-lehramt/veranstal
 tungen/aktuelles/2008/akbild_event.2008-05-28.8822282872
END:VEVENT
BEGIN:VTIMEZONE
TZID:Europe/Vienna
X-LIC-LOCATION:Europe/Vienna
BEGIN:DAYLIGHT
DTSTART:20080330T030000
TZNAME:CEST
TZOFFSETFROM:+0100
TZOFFSETTO:+0200
END:DAYLIGHT
END:VTIMEZONE
END:VCALENDAR
