BEGIN:VCALENDAR
VERSION:2.0
PRODID:-//Plone.org//NONSGML plone.app.event//EN
X-WR-TIMEZONE:Europe/Vienna
BEGIN:VEVENT
SUMMARY:Karin Schneider | Kunstvermittlung zwischen Prekariat und Professi
 onalisierung
DTSTART;TZID=Europe/Vienna:20100121T190000
DTSTAMP:20260424T043955Z
UID:ffb328aab4d08bb79a598a74fae78108@www.akbild.ac.at
CATEGORIES:Vorträge / Veranstaltungen
CREATED:20220312T093733Z
DESCRIPTION:Gastvortrag | Karin Schneider | Kunst- und Wissenschaftsvermit
 tlerin\n \n Respondenz | Stefan Palaver | Bildender Künstler und Kunstver
 mittler\n \n Routinen des Kreativen - Partizipation\, Kritik und Professio
 nalisierung\n \n Eine Vortragsreihe veranstaltet vom IKL und IKW in Kooper
 ation mit dem Ring Österreichischer Bildungswerke\, dem Verband Österrei
 chischer Volkshochschulen\, dem Österreichischen Institut für Erwachsene
 nbildung und IG Kultur Österreich.\n \n Konzept und Organisation | Agnies
 zka Dzierzbicka\, Wolfgang Kellner\, Stefan Vater
LAST-MODIFIED:20240919T081310Z
URL:https://www.akbild.ac.at/de/institute/kunstlerisches-lehramt/veranstal
 tungen/aktuelles/2010/akbild_event.2010-01-05.6557334354
END:VEVENT
BEGIN:VTIMEZONE
TZID:Europe/Vienna
X-LIC-LOCATION:Europe/Vienna
BEGIN:STANDARD
DTSTART:20091025T020000
TZNAME:CET
TZOFFSETFROM:+0200
TZOFFSETTO:+0100
END:STANDARD
END:VTIMEZONE
END:VCALENDAR
