BEGIN:VCALENDAR
VERSION:2.0
PRODID:-//Plone.org//NONSGML plone.app.event//EN
X-WR-TIMEZONE:Europe/Vienna
BEGIN:VEVENT
SUMMARY:Empirische Spuren kombinieren: Zur Verschränkung unterschiedliche
 r Datentypen
DTSTART;TZID=Europe/Vienna:20110512T170000
DTEND;TZID=Europe/Vienna:20110512T203000
DTSTAMP:20260425T013056Z
UID:5d7a23b6877cc804cb67b7187697c0dc@www.akbild.ac.at
CATEGORIES:Vorträge / Veranstaltungen
CREATED:20220312T093751Z
DESCRIPTION:Vortrag von Larissa Schindler\, Soziologin\, Universität Main
 z und Ines Garnitschnig\, Soziologin\, Wien im Rahmen der Forschungswerkst
 att ‚involviert forschen und bilden’ am Institut für das künstlerisc
 he Lehramt\, Fachbereich Kunst- und Kulturpädagogik. Konzept: Rosemarie O
 rtner und Marion Thuswald
LAST-MODIFIED:20240919T081310Z
URL:https://www.akbild.ac.at/de/institute/kunstlerisches-lehramt/veranstal
 tungen/aktuelles/2011/akbild_event.2011-03-24.0773918070
END:VEVENT
BEGIN:VTIMEZONE
TZID:Europe/Vienna
X-LIC-LOCATION:Europe/Vienna
BEGIN:DAYLIGHT
DTSTART:20110327T030000
TZNAME:CEST
TZOFFSETFROM:+0100
TZOFFSETTO:+0200
END:DAYLIGHT
END:VTIMEZONE
END:VCALENDAR
