BEGIN:VCALENDAR
VERSION:2.0
PRODID:-//Plone.org//NONSGML plone.app.event//EN
X-WR-TIMEZONE:Europe/Vienna
BEGIN:VEVENT
SUMMARY:Education Moves
DTSTART;TZID=Europe/Vienna:20150620T140000
DTEND;TZID=Europe/Vienna:20150620T190000
DTSTAMP:20260425T192712Z
UID:bf34e56b74f0a72e50e2452a3ca9f49a@www.akbild.ac.at
CATEGORIES:Vorträge / Veranstaltungen
CREATED:20220312T093858Z
DESCRIPTION:Abschlusspräsentation des von Ana Hoffner  geleiteten Projekt
 seminars Kunst und Kommunikation im Fachbereich Kunst  und Bildung\, Profe
 ssur Elke Krasny
LAST-MODIFIED:20240919T081310Z
URL:https://www.akbild.ac.at/de/institute/kunstlerisches-lehramt/veranstal
 tungen/aktuelles/2015/education-moves
END:VEVENT
BEGIN:VTIMEZONE
TZID:Europe/Vienna
X-LIC-LOCATION:Europe/Vienna
BEGIN:DAYLIGHT
DTSTART:20150329T030000
TZNAME:CEST
TZOFFSETFROM:+0100
TZOFFSETTO:+0200
END:DAYLIGHT
END:VTIMEZONE
END:VCALENDAR
