BEGIN:VCALENDAR
VERSION:2.0
PRODID:-//Plone.org//NONSGML plone.app.event//EN
X-WR-TIMEZONE:Europe/Vienna
BEGIN:VEVENT
SUMMARY:Making Magazines | Making Exhibitions
DTSTART;TZID=Europe/Vienna:20161214T100000
DTSTAMP:20260426T015234Z
UID:9747bc29356a76ee24ee9d8f24a63dcd@www.akbild.ac.at
CATEGORIES:Vorträge / Veranstaltungen
CREATED:20220312T093914Z
DESCRIPTION:Vortrag von Saul Marcadent / IUAV Venedig im Rahmen der Lehrve
 ranstaltungen Moden und Styles 11.1 und 11.2\, Konzeption / Elke Gaugele\,
  und Realisierung / Simonetta Ferfoglia\, Heinrich Pichler
LAST-MODIFIED:20240919T081310Z
URL:https://www.akbild.ac.at/de/institute/kunstlerisches-lehramt/veranstal
 tungen/aktuelles/2016/making-magazines-making-exhibitions
END:VEVENT
BEGIN:VTIMEZONE
TZID:Europe/Vienna
X-LIC-LOCATION:Europe/Vienna
BEGIN:STANDARD
DTSTART:20161030T020000
TZNAME:CET
TZOFFSETFROM:+0200
TZOFFSETTO:+0100
END:STANDARD
END:VTIMEZONE
END:VCALENDAR
