BEGIN:VCALENDAR
VERSION:2.0
PRODID:-//Plone.org//NONSGML plone.app.event//EN
X-WR-TIMEZONE:Europe/Vienna
BEGIN:VEVENT
SUMMARY:Ästhetische Erziehung 2.0 | Zeitgemäße Kunstvermittlung mit und
  über Medien?
DTSTART;TZID=Europe/Vienna:20171123T180000
DTSTAMP:20260423T114454Z
UID:844ebbbc4cf1618ed8b5ff4e1bb5ecff@www.akbild.ac.at
CATEGORIES:Vorträge / Veranstaltungen
CREATED:20220312T094004Z
DESCRIPTION:Vortrag von Ann-Kathrin Stoltenhoff (Stuttgart) mit Respondenz
 en von Sabrina Schrammel und Stefanie Wuschitz.\n \n Eine Veranstaltung de
 s Fachbereichs Kunst- und Kulturpädagogik.
LAST-MODIFIED:20240919T081306Z
URL:https://www.akbild.ac.at/de/institute/kunstlerisches-lehramt/veranstal
 tungen/aktuelles/2017/aesthetische-erziehung-2.0-zeitgemaesse-kunstvermitt
 lung-mit-und-ueber-medien
END:VEVENT
BEGIN:VTIMEZONE
TZID:Europe/Vienna
X-LIC-LOCATION:Europe/Vienna
BEGIN:STANDARD
DTSTART:20171029T020000
TZNAME:CET
TZOFFSETFROM:+0200
TZOFFSETTO:+0100
END:STANDARD
END:VTIMEZONE
END:VCALENDAR
