BEGIN:VCALENDAR
VERSION:2.0
PRODID:-//Plone.org//NONSGML plone.app.event//EN
X-WR-TIMEZONE:Europe/Vienna
BEGIN:VEVENT
SUMMARY:(Post)socialist Threads: Garment Production and Women's Labour dur
 ing and after Yugoslavia
DTSTART;TZID=Europe/Vienna:20170517T133000
DTEND;TZID=Europe/Vienna:20170517T150000
DTSTAMP:20260423T114453Z
UID:e488cfd5af12ff6cb41aa4c5cb31bf54@www.akbild.ac.at
CATEGORIES:Vorträge / Veranstaltungen
CREATED:20220312T093952Z
DESCRIPTION:Lecture by Chiara Bonfiglioli (IWM Vienna / University of Pula
 ) with a response by Vida Bakondy (Wien Museum / Migration Sammeln)
LAST-MODIFIED:20240919T081306Z
URL:https://www.akbild.ac.at/de/institute/kunstlerisches-lehramt/veranstal
 tungen/aktuelles/2017/post-socialist-threads-garment-production-and-womens
 -labour-during-and-after-yugoslavia
END:VEVENT
BEGIN:VTIMEZONE
TZID:Europe/Vienna
X-LIC-LOCATION:Europe/Vienna
BEGIN:DAYLIGHT
DTSTART:20170326T030000
TZNAME:CEST
TZOFFSETFROM:+0100
TZOFFSETTO:+0200
END:DAYLIGHT
END:VTIMEZONE
END:VCALENDAR
