BEGIN:VCALENDAR
VERSION:2.0
PRODID:-//Plone.org//NONSGML plone.app.event//EN
X-WR-TIMEZONE:Europe/Vienna
BEGIN:VEVENT
SUMMARY:Textile-Mediated Visual Culture: Re-orienting European Art through
  Asian Textiles
DTSTART;TZID=Europe/Vienna:20181211T170000
DTSTAMP:20260425T030538Z
UID:4c1de5a487d6ba949a35e013d8eb3148@www.akbild.ac.at
CATEGORIES:Vorträge / Veranstaltungen
CREATED:20220312T094047Z
DESCRIPTION:Tracing back to Asian territories\, and using textile as a pri
 mary tool of investigation\, in her talk Mariachiara Gasparini aims to shi
 ft standards and labels that characterize Medieval visual art in Europe.
LAST-MODIFIED:20240919T081306Z
URL:https://www.akbild.ac.at/de/institute/kunstlerisches-lehramt/veranstal
 tungen/aktuelles/2018/textile-mediated-visual-culture-re-orienting-europea
 n-art-through-asian-textiles
END:VEVENT
BEGIN:VTIMEZONE
TZID:Europe/Vienna
X-LIC-LOCATION:Europe/Vienna
BEGIN:STANDARD
DTSTART:20181028T020000
TZNAME:CET
TZOFFSETFROM:+0200
TZOFFSETTO:+0100
END:STANDARD
END:VTIMEZONE
END:VCALENDAR
