BEGIN:VCALENDAR
VERSION:2.0
PRODID:-//Plone.org//NONSGML plone.app.event//EN
X-WR-TIMEZONE:Europe/Vienna
BEGIN:VEVENT
SUMMARY:Vielfältige geschlechtliche und sexuelle Lebensweisen in der Bild
 ungsarbeit | Didaktische Potenziale und Herausforderungen
DTSTART;TZID=Europe/Vienna:20180927T170000
DTEND;TZID=Europe/Vienna:20180927T200000
DTSTAMP:20260423T114532Z
UID:dfe0bc0849e9d94a2a998f1832e6aaeb@www.akbild.ac.at
CATEGORIES:Vorträge / Veranstaltungen
CREATED:20220312T094036Z
DESCRIPTION:Eine Veranstaltung des Fachbereichs Kunst- und Kulturpädagogi
 k in Kooperation mit dem Institut für Bildungswissenschaft der Universit
 ät Wien sowie\n \n  queerconnexion\n \n .
LAST-MODIFIED:20240919T081306Z
URL:https://www.akbild.ac.at/de/institute/kunstlerisches-lehramt/veranstal
 tungen/aktuelles/2018/vielfaeltige-geschlechtliche-und-sexuelle-lebensweis
 en-in-der-bildungsarbeit-didaktische-potenziale-und-herausforderungen
END:VEVENT
BEGIN:VTIMEZONE
TZID:Europe/Vienna
X-LIC-LOCATION:Europe/Vienna
BEGIN:DAYLIGHT
DTSTART:20180325T030000
TZNAME:CEST
TZOFFSETFROM:+0100
TZOFFSETTO:+0200
END:DAYLIGHT
END:VTIMEZONE
END:VCALENDAR
