BEGIN:VCALENDAR
VERSION:2.0
PRODID:-//Plone.org//NONSGML plone.app.event//EN
X-WR-TIMEZONE:Europe/Vienna
BEGIN:VEVENT
SUMMARY:Erinnerung\, Trauma\, Widerstand\, Veränderung | Gegenwärtigkeit
 \, transnationale Verflechtungen und Geschichtspolitiken in der Kunstvermi
 ttlung
DTSTART;TZID=Europe/Vienna:20190919T110000
DTSTAMP:20260424T235050Z
UID:18898f4f50614e527a582279bced2ce8@www.akbild.ac.at
CATEGORIES:Vorträge / Veranstaltungen
CREATED:20220312T094129Z
DESCRIPTION:Vortrag von Elke Krasny | Kunst und Bildung.
LAST-MODIFIED:20240919T081306Z
URL:https://www.akbild.ac.at/de/institute/kunstlerisches-lehramt/veranstal
 tungen/aktuelles/2019/erinnerung-trauma-widerstand-veraenderung-gegenwaert
 igkeit-transnationale-verflechtungen-und-geschichtspolitiken-in-der-kunstv
 ermittlung
END:VEVENT
BEGIN:VTIMEZONE
TZID:Europe/Vienna
X-LIC-LOCATION:Europe/Vienna
BEGIN:DAYLIGHT
DTSTART:20190331T030000
TZNAME:CEST
TZOFFSETFROM:+0100
TZOFFSETTO:+0200
END:DAYLIGHT
END:VTIMEZONE
END:VCALENDAR
