BEGIN:VCALENDAR
VERSION:2.0
PRODID:-//Plone.org//NONSGML plone.app.event//EN
X-WR-TIMEZONE:Europe/Vienna
BEGIN:VEVENT
SUMMARY:Elke Gaugele\, Monica Titton: Fashion and Postcolonial Critique
DTSTART;TZID=Europe/Vienna:20190321T183000
DTSTAMP:20260424T235848Z
UID:34eef5f0e52a1c6f6374aae3f84326ed@www.akbild.ac.at
CATEGORIES:Vorträge / Veranstaltungen
CREATED:20220312T094111Z
DESCRIPTION:Präsentation von Band 22 der Schriftenreihe der Akademie der 
 bildenden Künste Wien\, hg. von Elke Gaugele und Monica Titton\, Berlin\,
  Sternberg Press\, 2019
LAST-MODIFIED:20240919T081306Z
URL:https://www.akbild.ac.at/de/institute/kunstlerisches-lehramt/veranstal
 tungen/aktuelles/2019/fashion-and-postcolonial-critique
END:VEVENT
BEGIN:VTIMEZONE
TZID:Europe/Vienna
X-LIC-LOCATION:Europe/Vienna
BEGIN:STANDARD
DTSTART:20181028T020000
TZNAME:CET
TZOFFSETFROM:+0200
TZOFFSETTO:+0100
END:STANDARD
END:VTIMEZONE
END:VCALENDAR
