BEGIN:VCALENDAR
VERSION:2.0
PRODID:-//Plone.org//NONSGML plone.app.event//EN
X-WR-TIMEZONE:Europe/Vienna
BEGIN:VEVENT
SUMMARY:Sexualpädagogisches Empowerment
DTSTART;TZID=Europe/Vienna:20190314T180000
DTSTAMP:20260423T114340Z
UID:f23e0524d1053a89c6b78ab177c8a2c0@www.akbild.ac.at
CATEGORIES:Vorträge / Veranstaltungen
CREATED:20220312T094108Z
DESCRIPTION:für Schwarze Menschen und People-of-Color im deutschsprachige
 n Raum. Intersektionale\, rassismuskritische\, traumaorientierte Selbstbil
 dungsansätze der Berliner SEEDS Collective.\n\n\n Vortrag von Prof.\n \n 
  in\n \n Maisha Maureen Auma (Hochschule Magdeburg) veranstaltet vom Fachb
 ereich Kunst- und Kulturpädagogik in Kooperation mit dem Referat für Gen
 der Forschung der Universität Wien sowie der Schwarzen Frauen Community W
 ien (\n \n  \n   https://www.schwarzefrauen.net\n  \n \n ).
LAST-MODIFIED:20240919T081306Z
URL:https://www.akbild.ac.at/de/institute/kunstlerisches-lehramt/veranstal
 tungen/aktuelles/2019/sexualpaedagogisches-empowerment
END:VEVENT
BEGIN:VTIMEZONE
TZID:Europe/Vienna
X-LIC-LOCATION:Europe/Vienna
BEGIN:STANDARD
DTSTART:20181028T020000
TZNAME:CET
TZOFFSETFROM:+0200
TZOFFSETTO:+0100
END:STANDARD
END:VTIMEZONE
END:VCALENDAR
