BEGIN:VCALENDAR
VERSION:2.0
PRODID:-//Plone.org//NONSGML plone.app.event//EN
X-WR-TIMEZONE:Europe/Vienna
BEGIN:VEVENT
SUMMARY:Anti-Vampire-Camp
DTSTART;TZID=Europe/Vienna:20200723T153000
DTEND;TZID=Europe/Vienna:20200723T173000
DTSTAMP:20260422T193835Z
UID:9fe5e63ecd040bd8e5bed6ae60855a83@www.akbild.ac.at
CATEGORIES:Vorträge / Veranstaltungen
CREATED:20220312T094203Z
DESCRIPTION:Bei der Workshopreihe und Projektpräsentation\n \n  Anti-Vamp
 ire-Camp\n \n handelt es sich um ein Projekt von\n \n  Akademie geht in di
 e Schule\n \n in Kooperation mit der Lehrveranstaltung\n \n \n \n  Künstl
 erische kollaborative Kunstvermittlungspraxis\n \n am Institut für das k
 ünstlerische Lehramt der Akademie der bildenden  Künste Wien unter der L
 eitung von Carla Bobadilla und der  Produktionsschule\n \n  Spacelab\n \n 
 . Eine Kooperation zwischen dem Kunstraum Niederoesterreich und Akademie g
 eht in die Schule.
LAST-MODIFIED:20240919T081302Z
URL:https://www.akbild.ac.at/de/institute/kunstlerisches-lehramt/veranstal
 tungen/aktuelles/2020/anti-vampire-camp
END:VEVENT
BEGIN:VTIMEZONE
TZID:Europe/Vienna
X-LIC-LOCATION:Europe/Vienna
BEGIN:DAYLIGHT
DTSTART:20200329T030000
TZNAME:CEST
TZOFFSETFROM:+0100
TZOFFSETTO:+0200
END:DAYLIGHT
END:VTIMEZONE
END:VCALENDAR
