BEGIN:VCALENDAR
VERSION:2.0
PRODID:-//Plone.org//NONSGML plone.app.event//EN
X-WR-TIMEZONE:Europe/Vienna
BEGIN:VEVENT
SUMMARY:Gegen die autoritäre Wende – Kritische Bildungsarbeit im Kontex
 t von aktuellen Extremismen und Terror in Wien
DTSTART;TZID=Europe/Vienna:20201218T130000
DTEND;TZID=Europe/Vienna:20201218T183000
DTSTAMP:20260424T064236Z
UID:6a19d0012daea9a7e360b50083021b9a@www.akbild.ac.at
CATEGORIES:Vorträge / Veranstaltungen
CREATED:20220312T094242Z
DESCRIPTION:Organisiert von den Fachbereichen Kunst und Bildung und Gestal
 tung im Kontext am Institut für das künstlerische Lehramt in Zusammenarb
 eit mit der Allianz Kunst und Bildung gegen Rassismus und Faschismus.
LAST-MODIFIED:20240919T081302Z
URL:https://www.akbild.ac.at/de/institute/kunstlerisches-lehramt/veranstal
 tungen/aktuelles/2020/gegen-die-autoritaere-wende-2013-kritische-bildungsa
 rbeit-im-kontext-von-aktuellen-extremismen-und-terror-in-wien
END:VEVENT
BEGIN:VTIMEZONE
TZID:Europe/Vienna
X-LIC-LOCATION:Europe/Vienna
BEGIN:STANDARD
DTSTART:20201025T020000
TZNAME:CET
TZOFFSETFROM:+0200
TZOFFSETTO:+0100
END:STANDARD
END:VTIMEZONE
END:VCALENDAR
