BEGIN:VCALENDAR
VERSION:2.0
PRODID:-//Plone.org//NONSGML plone.app.event//EN
X-WR-TIMEZONE:Europe/Vienna
BEGIN:VEVENT
SUMMARY:In Sorge bleiben. Feministische Bewegungen für andere Zukünfte
DTSTART;TZID=Europe/Vienna:20201201T170000
DTEND;TZID=Europe/Vienna:20201201T190000
DTSTAMP:20260424T145207Z
UID:e293a87237e48092aeb237bb162c6345@www.akbild.ac.at
CATEGORIES:Vorträge / Veranstaltungen
CREATED:20220312T094215Z
DESCRIPTION:Eine Veranstaltung des Instituts für das künstlerische Lehra
 mt\, Fachbereich Kunst und Bildung in Kooperation mit dem Belvedere 21.
LAST-MODIFIED:20240919T081302Z
URL:https://www.akbild.ac.at/de/institute/kunstlerisches-lehramt/veranstal
 tungen/aktuelles/2020/in-sorge-bleiben.-feministische-bewegungen-fuer-ande
 re-zukuenfte
END:VEVENT
BEGIN:VTIMEZONE
TZID:Europe/Vienna
X-LIC-LOCATION:Europe/Vienna
BEGIN:STANDARD
DTSTART:20201025T020000
TZNAME:CET
TZOFFSETFROM:+0200
TZOFFSETTO:+0100
END:STANDARD
END:VTIMEZONE
END:VCALENDAR
