BEGIN:VCALENDAR
VERSION:2.0
PRODID:-//Plone.org//NONSGML plone.app.event//EN
X-WR-TIMEZONE:Europe/Vienna
BEGIN:VEVENT
SUMMARY:Making Sense of Perception and Power in Participatory Perormance
DTSTART;TZID=Europe/Vienna:20201211T111500
DTSTAMP:20260423T230314Z
UID:e85d783a60ef515f3a861179280abe9b@www.akbild.ac.at
CATEGORIES:Vorträge / Veranstaltungen
CREATED:20220312T094237Z
DESCRIPTION:Joonas Lahtinen\, Universitätsassistent im Fachbereich Kunst 
 und Bildung am Institut für das künstlerische Lehramt der Akademie der b
 ildenden Künste Wien\, verteidigt seine aufführungsanalytische und epist
 emologische Doktorarbeit an der Universität Helsinki: Making Sense of Per
 ception and Power in Participatory Perormance | Horizons of Change and Po
 litics of the Sensible in Lois Weaver’s\n \n  What Tammy Needs to Know\
 n \n \, Tellervo Kalleinen and Oliver Kochta-Kalleinen’s\n \n  Complain
 ts Choir\n \n \, and Claudia Bosse’s\n \n  dominant powers. was also tu
 n?
LAST-MODIFIED:20240919T081302Z
URL:https://www.akbild.ac.at/de/institute/kunstlerisches-lehramt/veranstal
 tungen/aktuelles/2020/making-sense-of-perception-and-power-in-participator
 y-perormance
END:VEVENT
BEGIN:VTIMEZONE
TZID:Europe/Vienna
X-LIC-LOCATION:Europe/Vienna
BEGIN:STANDARD
DTSTART:20201025T020000
TZNAME:CET
TZOFFSETFROM:+0200
TZOFFSETTO:+0100
END:STANDARD
END:VTIMEZONE
END:VCALENDAR
