BEGIN:VCALENDAR
VERSION:2.0
PRODID:-//Plone.org//NONSGML plone.app.event//EN
X-WR-TIMEZONE:Europe/Vienna
BEGIN:VEVENT
SUMMARY:Digital Weaving | Gastvortrag von Dipl. Des. Elisabeth Stötzler
DTSTART;TZID=Europe/Vienna:20211108T133000
DTEND;TZID=Europe/Vienna:20211108T170000
DTSTAMP:20260424T031211Z
UID:4ba66b9338f4cdfed4eae0862e613005@www.akbild.ac.at
CATEGORIES:Vorträge / Veranstaltungen
CREATED:20220312T094408Z
DESCRIPTION:Im Rahmen der Lehrveranstaltung GiK 4.3\n \n \n \n Gestalteris
 ch- handwerkliche Vermittlungsformate im Lehramtsstudium Gestaltung im Kon
 text - Unterrichtsgegenstand Technisches und textiles Werken.
LAST-MODIFIED:20240919T081302Z
URL:https://www.akbild.ac.at/de/institute/kunstlerisches-lehramt/veranstal
 tungen/aktuelles/2021/gastvortrag-von-elisabeth-stoetzle
END:VEVENT
BEGIN:VTIMEZONE
TZID:Europe/Vienna
X-LIC-LOCATION:Europe/Vienna
BEGIN:STANDARD
DTSTART:20211031T020000
TZNAME:CET
TZOFFSETFROM:+0200
TZOFFSETTO:+0100
END:STANDARD
END:VTIMEZONE
END:VCALENDAR
