BEGIN:VCALENDAR
VERSION:2.0
PRODID:-//Plone.org//NONSGML plone.app.event//EN
X-WR-TIMEZONE:Europe/Vienna
BEGIN:VEVENT
SUMMARY:Globalising Feminist History
DTSTART;TZID=Europe/Vienna:20211216T100000
DTEND;TZID=Europe/Vienna:20211216T120000
DTSTAMP:20260424T221300Z
UID:07eb713d344141f92c1ee3c000fcf77a@www.akbild.ac.at
CATEGORIES:Vorträge / Veranstaltungen
CREATED:20220312T094435Z
DESCRIPTION:Vortrag von\n \n  Lucy Delap\n \n im Rahmen der Reihe Figurati
 onen von Geschlecht\, Differenz und Identität - Ideologische Zugriffe\, A
 utoritäre Wenden\, Popularisierung von Gewalt am Institut für das Künst
 lerische Lehramt IKL (in englischer Sprache)\, konzipiert und organisiert 
 von Elke Gaugele und Elke Krasny.
LAST-MODIFIED:20240919T081302Z
URL:https://www.akbild.ac.at/de/institute/kunstlerisches-lehramt/veranstal
 tungen/aktuelles/2021/globalising-feminist-history
END:VEVENT
BEGIN:VTIMEZONE
TZID:Europe/Vienna
X-LIC-LOCATION:Europe/Vienna
BEGIN:STANDARD
DTSTART:20211031T020000
TZNAME:CET
TZOFFSETFROM:+0200
TZOFFSETTO:+0100
END:STANDARD
END:VTIMEZONE
END:VCALENDAR
