BEGIN:VCALENDAR
VERSION:2.0
PRODID:-//Plone.org//NONSGML plone.app.event//EN
X-WR-TIMEZONE:Europe/Vienna
BEGIN:VEVENT
SUMMARY:I KNOW\, I Self-CARE | Taking Back Self-Care
DTSTART;TZID=Europe/Vienna:20210204T170000
DTSTAMP:20260425T121708Z
UID:b9afe203450d00ae7c1b1926da893e18@www.akbild.ac.at
CATEGORIES:Vorträge / Veranstaltungen
CREATED:20220312T094256Z
DESCRIPTION:Collective Writing Workshop\, facilitated by Elke Krasny\, Len
 a Fritsch\, Sophie Lingg\, and Claudia Lomoschitz.\n \n Organized by Mirja
 na Djotunovic Mustra\, I KNOW I CARE and Elke Krasny\, Program for Art and
  Education at the Academy of Fine Arts Vienna
LAST-MODIFIED:20240919T081302Z
URL:https://www.akbild.ac.at/de/institute/kunstlerisches-lehramt/veranstal
 tungen/aktuelles/2021/i-know-i-self-care-taking-back-self-care
END:VEVENT
BEGIN:VTIMEZONE
TZID:Europe/Vienna
X-LIC-LOCATION:Europe/Vienna
BEGIN:STANDARD
DTSTART:20201025T020000
TZNAME:CET
TZOFFSETFROM:+0200
TZOFFSETTO:+0100
END:STANDARD
END:VTIMEZONE
END:VCALENDAR
