BEGIN:VCALENDAR
VERSION:2.0
PRODID:-//Plone.org//NONSGML plone.app.event//EN
X-WR-TIMEZONE:Europe/Vienna
BEGIN:VEVENT
SUMMARY:#Didaktik - From clouds to grounds: Making visible AI's material
DTSTART;TZID=Europe/Vienna:20220427T180000
DTSTAMP:20260423T162227Z
UID:dec97e55cf62489ba6ac43e5cedcd953@www.akbild.ac.at
CATEGORIES:Vorträge / Veranstaltungen
CREATED:20220329T152457Z
DESCRIPTION:Die Vortragsreihe #DIDAKTIK findet als internationale Kooperat
 ion zwischen dem Fachbereich Kunst und Bildung am Institut für das künst
 lerische Lehramt und dem Studiengang Art Education an der Hochschule der K
 ünste Bern statt.
LAST-MODIFIED:20240919T081258Z
URL:https://www.akbild.ac.at/de/institute/kunstlerisches-lehramt/veranstal
 tungen/aktuelles/2022/didaktik/didaktik-ariana-dongus
END:VEVENT
BEGIN:VTIMEZONE
TZID:Europe/Vienna
X-LIC-LOCATION:Europe/Vienna
BEGIN:DAYLIGHT
DTSTART:20220327T030000
TZNAME:CEST
TZOFFSETFROM:+0100
TZOFFSETTO:+0200
END:DAYLIGHT
END:VTIMEZONE
END:VCALENDAR
