BEGIN:VCALENDAR
VERSION:2.0
PRODID:-//Plone.org//NONSGML plone.app.event//EN
X-WR-TIMEZONE:Europe/Vienna
BEGIN:VEVENT
SUMMARY:Nicolas Cilins - Talk to me! Justin Bartley\, Karen Cooper\, Regin
 o Houedanou on their remote working conditions
DTSTART;TZID=Europe/Vienna:20220323T180000
DTSTAMP:20260423T162339Z
UID:fd9820db79c2492ab0124257c4801039@www.akbild.ac.at
CATEGORIES:Vorträge / Veranstaltungen
CREATED:20220329T151214Z
DESCRIPTION:Die Vortragsreihe #DIDAKTIK findet als internationale Kooperat
 ion zwischen dem Fachbereich Kunst und Bildung am Institut für das künst
 lerische Lehramt und dem Studiengang Art Education an der Hochschule der K
 ünste Bern statt.
LAST-MODIFIED:20240919T081258Z
URL:https://www.akbild.ac.at/de/institute/kunstlerisches-lehramt/veranstal
 tungen/aktuelles/2022/didaktik/nicolas-cilins-talk-to-me-justin-bartley-ka
 ren-cooper-regino-houedanou-on-their-remote-working-conditions
END:VEVENT
BEGIN:VTIMEZONE
TZID:Europe/Vienna
X-LIC-LOCATION:Europe/Vienna
BEGIN:STANDARD
DTSTART:20211031T020000
TZNAME:CET
TZOFFSETFROM:+0200
TZOFFSETTO:+0100
END:STANDARD
END:VTIMEZONE
END:VCALENDAR
