BEGIN:VCALENDAR
VERSION:2.0
PRODID:-//Plone.org//NONSGML plone.app.event//EN
X-WR-TIMEZONE:Europe/Vienna
BEGIN:VEVENT
SUMMARY:Inklusion bewegt – Körpererfahrung und Selbstreflexion
DTSTART;TZID=Europe/Vienna:20230420T150000
DTEND;TZID=Europe/Vienna:20230420T173000
DTSTAMP:20260419T160642Z
UID:c046f555a2014c809d999e4a6be7452c@www.akbild.ac.at
CATEGORIES:Vorträge / Veranstaltungen
CREATED:20230310T100741Z
DESCRIPTION:Workshop mit Elisabeth Löffler\, Performance Artist MellowYel
 low\, MAD Mixed-Abled Dance
LAST-MODIFIED:20240919T081258Z
URL:https://www.akbild.ac.at/de/institute/kunstlerisches-lehramt/veranstal
 tungen/aktuelles/2023/inklusion-bewegt-koerpererfahrung-und-selbstreflexio
 n
END:VEVENT
BEGIN:VTIMEZONE
TZID:Europe/Vienna
X-LIC-LOCATION:Europe/Vienna
BEGIN:DAYLIGHT
DTSTART:20230326T030000
TZNAME:CEST
TZOFFSETFROM:+0100
TZOFFSETTO:+0200
END:DAYLIGHT
END:VTIMEZONE
END:VCALENDAR
