BEGIN:VCALENDAR
VERSION:2.0
PRODID:-//Plone.org//NONSGML plone.app.event//EN
X-WR-TIMEZONE:Europe/Vienna
BEGIN:VEVENT
SUMMARY:Inklusion – Impulse und Herausforderungen für Schule und Unterr
 icht
DTSTART;TZID=Europe/Vienna:20230601T150000
DTSTAMP:20260419T160639Z
UID:83b1948d44e34f9b80bd8e6b8ecb4d74@www.akbild.ac.at
CATEGORIES:Vorträge / Veranstaltungen
CREATED:20230526T085833Z
DESCRIPTION:Expert_innengespräch zur Praxis bilingualen Unterrichts mit 
 Gülsün Toluay in der Reihe Inklusion – Bildungswissenschaftliche und
  fachdidaktische Impulse des Fachbereichs Kunst- und Kulturpädagogik.
LAST-MODIFIED:20240919T081258Z
URL:https://www.akbild.ac.at/de/institute/kunstlerisches-lehramt/veranstal
 tungen/aktuelles/2023/inklusion-impulse-und-herausforderungen-fuer-schule-
 und-unterricht
END:VEVENT
BEGIN:VTIMEZONE
TZID:Europe/Vienna
X-LIC-LOCATION:Europe/Vienna
BEGIN:DAYLIGHT
DTSTART:20230326T030000
TZNAME:CEST
TZOFFSETFROM:+0100
TZOFFSETTO:+0200
END:DAYLIGHT
END:VTIMEZONE
END:VCALENDAR
