BEGIN:VCALENDAR
VERSION:2.0
PRODID:-//Plone.org//NONSGML plone.app.event//EN
X-WR-TIMEZONE:Europe/Vienna
BEGIN:VEVENT
SUMMARY:Buchpräsentation: Feminist Infrastructural Critique
DTSTART;TZID=Europe/Vienna:20241021T190000
DTSTAMP:20260419T125043Z
UID:5dd1252ca7a64b148f74269f9b645b85@www.akbild.ac.at
CATEGORIES:Vorträge / Veranstaltungen
CREATED:20241014T125013Z
DESCRIPTION:Eine Veranstaltung des Fachbereichs Kunst und Bildung\, Instit
 ut für das künstlerische Lehramt.
LAST-MODIFIED:20241014T130253Z
URL:https://www.akbild.ac.at/de/institute/kunstlerisches-lehramt/veranstal
 tungen/aktuelles/2024/buchpraesentation-feminist-infrastructural-critique
END:VEVENT
BEGIN:VTIMEZONE
TZID:Europe/Vienna
X-LIC-LOCATION:Europe/Vienna
BEGIN:DAYLIGHT
DTSTART:20240331T030000
TZNAME:CEST
TZOFFSETFROM:+0100
TZOFFSETTO:+0200
END:DAYLIGHT
END:VTIMEZONE
END:VCALENDAR
