BEGIN:VCALENDAR
VERSION:2.0
PRODID:-//Plone.org//NONSGML plone.app.event//EN
X-WR-TIMEZONE:Europe/Vienna
BEGIN:VEVENT
SUMMARY:Eingebettetes Wissen\, plurale Geschichten und Demokratisierung de
 r Mode: Ein modebasierter Ansatz für soziale Gerechtigkeit
DTSTART;TZID=Europe/Vienna:20240619T160000
DTEND;TZID=Europe/Vienna:20240619T180000
DTSTAMP:20260424T174133Z
UID:f2a8a3e2814344d5b92417c76bc7662c@www.akbild.ac.at
CATEGORIES:Vorträge / Veranstaltungen
CREATED:20240531T085337Z
DESCRIPTION:Ein Vortrag von Moden &amp\; Styles\, Institut für das künst
 lerische Lehramt\, organisiert von Elke Gaugele und Sarah Held.
LAST-MODIFIED:20240919T081255Z
URL:https://www.akbild.ac.at/de/institute/kunstlerisches-lehramt/veranstal
 tungen/aktuelles/2024/eingebettetes-wissen-plurale-geschichten-und-demokra
 tisierung-der-mode
END:VEVENT
BEGIN:VTIMEZONE
TZID:Europe/Vienna
X-LIC-LOCATION:Europe/Vienna
BEGIN:DAYLIGHT
DTSTART:20240331T030000
TZNAME:CEST
TZOFFSETFROM:+0100
TZOFFSETTO:+0200
END:DAYLIGHT
END:VTIMEZONE
END:VCALENDAR
