BEGIN:VCALENDAR
VERSION:2.0
PRODID:-//Plone.org//NONSGML plone.app.event//EN
X-WR-TIMEZONE:Europe/Vienna
BEGIN:VEVENT
SUMMARY:Empowering Hands: N'wana-Figuren gestalten\, uns selbst entwickeln
DTSTART;TZID=Europe/Vienna:20240625T100000
DTEND;TZID=Europe/Vienna:20240625T160000
DTSTAMP:20260425T013009Z
UID:5096c34373df4ad694e6688ed6341f44@www.akbild.ac.at
CATEGORIES:Vorträge / Veranstaltungen
CREATED:20240604T123227Z
DESCRIPTION:Workshop von Kimberly Bediako\, Tinyiko Baloyi\, und Dr. Khaya
  Mchunu\, organisiert von Moden und Styles\, IKL.
LAST-MODIFIED:20240919T081255Z
URL:https://www.akbild.ac.at/de/institute/kunstlerisches-lehramt/veranstal
 tungen/aktuelles/2024/empowering-hands-creating-nwana-figures-creating-our
 selves
END:VEVENT
BEGIN:VTIMEZONE
TZID:Europe/Vienna
X-LIC-LOCATION:Europe/Vienna
BEGIN:DAYLIGHT
DTSTART:20240331T030000
TZNAME:CEST
TZOFFSETFROM:+0100
TZOFFSETTO:+0200
END:DAYLIGHT
END:VTIMEZONE
END:VCALENDAR
