BEGIN:VCALENDAR
VERSION:2.0
PRODID:-//Plone.org//NONSGML plone.app.event//EN
X-WR-TIMEZONE:Europe/Vienna
BEGIN:VEVENT
SUMMARY:Transnationale Ungleichheiten in der Mode: Überlegungen zu ausbeu
 terischer Industrie und Vorurteilen der Wissenschaft
DTSTART;TZID=Europe/Vienna:20240605T160000
DTEND;TZID=Europe/Vienna:20240605T180000
DTSTAMP:20260423T014940Z
UID:4aa3d366529f43419eef308931cd9ff2@www.akbild.ac.at
CATEGORIES:Vorträge / Veranstaltungen
CREATED:20240314T092305Z
DESCRIPTION:Vortrag von Anna-Mari Almila organisiert von Elke Gaugele und
  Sarah Held\, Fachbereich Moden und Styles. Vortragssprache Englisch
LAST-MODIFIED:20240919T081255Z
URL:https://www.akbild.ac.at/de/institute/kunstlerisches-lehramt/veranstal
 tungen/aktuelles/2024/transnationale-ungleichheiten-in-der-mode-ueberlegun
 gen-zu-ausbeuterischer-industrie-und-vorurteilen-der-wissenschaft
END:VEVENT
BEGIN:VTIMEZONE
TZID:Europe/Vienna
X-LIC-LOCATION:Europe/Vienna
BEGIN:DAYLIGHT
DTSTART:20240331T030000
TZNAME:CEST
TZOFFSETFROM:+0100
TZOFFSETTO:+0200
END:DAYLIGHT
END:VTIMEZONE
END:VCALENDAR
