BEGIN:VCALENDAR
VERSION:2.0
PRODID:-//Plone.org//NONSGML plone.app.event//EN
X-WR-TIMEZONE:Europe/Vienna
BEGIN:VEVENT
SUMMARY:Workshop: Wardrobe Stories
DTSTART;TZID=Europe/Vienna:20240621T143000
DTEND;TZID=Europe/Vienna:20240621T170000
DTSTAMP:20260423T101805Z
UID:7be0f0ad0883489fad126f8a8a9e5e16@www.akbild.ac.at
CATEGORIES:Vorträge / Veranstaltungen
CREATED:20240606T113252Z
DESCRIPTION:Ein Workshop mit Christina H. Moon\, organisiert von Elke Gaug
 ele und Sarah Held\, Moden und Styles (IKL).
LAST-MODIFIED:20240919T081255Z
URL:https://www.akbild.ac.at/de/institute/kunstlerisches-lehramt/veranstal
 tungen/aktuelles/2024/workshop-wardrobe-stories-1
END:VEVENT
BEGIN:VTIMEZONE
TZID:Europe/Vienna
X-LIC-LOCATION:Europe/Vienna
BEGIN:DAYLIGHT
DTSTART:20240331T030000
TZNAME:CEST
TZOFFSETFROM:+0100
TZOFFSETTO:+0200
END:DAYLIGHT
END:VTIMEZONE
END:VCALENDAR
