BEGIN:VCALENDAR
VERSION:2.0
PRODID:-//Plone.org//NONSGML plone.app.event//EN
X-WR-TIMEZONE:Europe/Vienna
BEGIN:VEVENT
SUMMARY:A...nfangen – Infoveranstaltung für BA-Lehramts-Studien GK & KB
DTSTART;TZID=Europe/Vienna:20250903T100000
DTEND;TZID=Europe/Vienna:20250903T113000
DTSTAMP:20260423T084758Z
UID:8cc20814b816438183f5bb1056fcfca4@www.akbild.ac.at
CATEGORIES:Vorträge / Veranstaltungen
CREATED:20250825T112048Z
DESCRIPTION:Für alle BA-Studienanfänger_innen in den künstlerischen Leh
 ramtsstudien Gestaltung im Kontext und Kunst und Bildung.
LAST-MODIFIED:20250901T075229Z
URL:https://www.akbild.ac.at/de/institute/kunstlerisches-lehramt/veranstal
 tungen/aktuelles/2025/a-nfangen-infoveranstaltung-fuer-ba-lehramts-studien
 -gk-kb
END:VEVENT
BEGIN:VTIMEZONE
TZID:Europe/Vienna
X-LIC-LOCATION:Europe/Vienna
BEGIN:DAYLIGHT
DTSTART:20250330T030000
TZNAME:CEST
TZOFFSETFROM:+0100
TZOFFSETTO:+0200
END:DAYLIGHT
END:VTIMEZONE
END:VCALENDAR
