BEGIN:VCALENDAR
VERSION:2.0
PRODID:-//Plone.org//NONSGML plone.app.event//EN
X-WR-TIMEZONE:Europe/Vienna
BEGIN:VEVENT
SUMMARY:Antimuslimischen Rassismus erkennen und verstehen – Tools für d
 ie Praxis
DTSTART;TZID=Europe/Vienna:20251202T170000
DTEND;TZID=Europe/Vienna:20251202T183000
DTSTAMP:20260422T053049Z
UID:98fe8885a1404dfb8733f7370bb0bfef@www.akbild.ac.at
CATEGORIES:Workshops
CREATED:20251124T091428Z
DESCRIPTION:Ein Workshop  von Dunia Khalil\, organisiert von Claudia Lomo
 schitz\, Fachbereich Kunst und Bildung.
LAST-MODIFIED:20251126T131613Z
URL:https://www.akbild.ac.at/de/institute/kunstlerisches-lehramt/veranstal
 tungen/aktuelles/2025/antimuslimischen-rassismus-erkennen-und-verstehen-to
 ols-fuer-die-praxis
END:VEVENT
BEGIN:VTIMEZONE
TZID:Europe/Vienna
X-LIC-LOCATION:Europe/Vienna
BEGIN:STANDARD
DTSTART:20251026T020000
TZNAME:CET
TZOFFSETFROM:+0200
TZOFFSETTO:+0100
END:STANDARD
END:VTIMEZONE
END:VCALENDAR
