BEGIN:VCALENDAR
VERSION:2.0
PRODID:-//Plone.org//NONSGML plone.app.event//EN
X-WR-TIMEZONE:Europe/Vienna
BEGIN:VEVENT
SUMMARY:Citizen Professionals. [em]Reclaiming Collective Spaces[/em]
DTSTART;TZID=Europe/Vienna:20260115T180000
DTSTAMP:20260424T021832Z
UID:b29afeab0bd44a699e4b3a12d5b36a89@www.akbild.ac.at
CATEGORIES:Vorträge / Veranstaltungen
CREATED:20251223T093830Z
DESCRIPTION:Präsentation der Publikation Citizen Professionals. Reclaimin
 g Collective Spaces von Karin Christof\, Stadtforscherin und Kuratorin und
  anschließendem Gespräch mit Michael Obrist\, Professor für Wohnbau und
  Entwerfen an der TU Wien. Moderiert von Anna Soucek\, Stadtforscherin und
  Redakteurin bei Radio Ö1.
LAST-MODIFIED:20260112T114806Z
URL:https://www.akbild.ac.at/de/institute/kunstlerisches-lehramt/veranstal
 tungen/aktuelles/2026/citizen-professionals-em-reclaiming-collective-space
 s-em
END:VEVENT
BEGIN:VTIMEZONE
TZID:Europe/Vienna
X-LIC-LOCATION:Europe/Vienna
BEGIN:STANDARD
DTSTART:20251026T020000
TZNAME:CET
TZOFFSETFROM:+0200
TZOFFSETTO:+0100
END:STANDARD
END:VTIMEZONE
END:VCALENDAR
