BEGIN:VCALENDAR
VERSION:2.0
PRODID:-//Plone.org//NONSGML plone.app.event//EN
X-WR-TIMEZONE:Europe/Vienna
BEGIN:VEVENT
SUMMARY:Martius Revisited. Eine kollaborative Gegenarchivierung zwischen B
 rasilien und Deutschland
DTSTART;TZID=Europe/Vienna:20260317T180000
DTSTAMP:20260422T053050Z
UID:246bd16827cf406598bba1a0da31f5df@www.akbild.ac.at
CATEGORIES:Vorträge / Veranstaltungen
CREATED:20260218T084635Z
DESCRIPTION:Projektvorstellung mit Frauke Zabel\, Künstlerin\, und Laura 
 Kemmer\, Stadtforscherin\, und anschließendem Gespräch. Im Rahmen der Ge
 nder Studies Vorlesung von Elke Gaugele und Elke Krasny.
LAST-MODIFIED:20260218T085721Z
URL:https://www.akbild.ac.at/de/institute/kunstlerisches-lehramt/veranstal
 tungen/aktuelles/2026/martius-revisited-eine-kollaborative-gegenarchivieru
 ng-zwischen-brasilien-und-deutschland
END:VEVENT
BEGIN:VTIMEZONE
TZID:Europe/Vienna
X-LIC-LOCATION:Europe/Vienna
BEGIN:STANDARD
DTSTART:20251026T020000
TZNAME:CET
TZOFFSETFROM:+0200
TZOFFSETTO:+0100
END:STANDARD
END:VTIMEZONE
END:VCALENDAR
