BEGIN:VCALENDAR
VERSION:2.0
PRODID:-//Plone.org//NONSGML plone.app.event//EN
X-WR-TIMEZONE:Europe/Vienna
BEGIN:VEVENT
SUMMARY:Motherism. African Feminism based on Catherine Obianuju Olumba-Ach
 olonu
DTSTART;TZID=Europe/Vienna:20260305T170000
DTEND;TZID=Europe/Vienna:20260305T200000
DTSTAMP:20260422T071717Z
UID:e889f9564e7946fe9123d1ffc851c1fc@www.akbild.ac.at
CATEGORIES:Vorträge / Veranstaltungen
CREATED:20260219T134625Z
DESCRIPTION:Teil der Vortragsreihe mit Prof. Nombeko Mpako\, University of
  South Africa (UNISA)\, Pretoria\,
LAST-MODIFIED:20260219T135658Z
URL:https://www.akbild.ac.at/de/institute/kunstlerisches-lehramt/veranstal
 tungen/aktuelles/2026/motherism-african-feminism-based-on-catherine-obianu
 ju-olumba-acholonu
END:VEVENT
BEGIN:VTIMEZONE
TZID:Europe/Vienna
X-LIC-LOCATION:Europe/Vienna
BEGIN:STANDARD
DTSTART:20251026T020000
TZNAME:CET
TZOFFSETFROM:+0200
TZOFFSETTO:+0100
END:STANDARD
END:VTIMEZONE
END:VCALENDAR
