BEGIN:VCALENDAR
VERSION:2.0
PRODID:-//Plone.org//NONSGML plone.app.event//EN
X-WR-TIMEZONE:Europe/Vienna
BEGIN:VEVENT
SUMMARY:Relevance\, Accessibility and Personal Stake: Core Agenda in Art a
 nd Design Education\; Arts-Based Research and Art and Design Production
DTSTART;TZID=Europe/Vienna:20260306T100000
DTEND;TZID=Europe/Vienna:20260306T120000
DTSTAMP:20260422T053050Z
UID:00ec538015c844a1af2b66127a855ff0@www.akbild.ac.at
CATEGORIES:Vorträge / Veranstaltungen
CREATED:20260219T135909Z
DESCRIPTION:Teil der Vortragsreihe mit Prof. Nombeko Mpako\, University of
  South Africa (UNISA)\, Pretoria.
LAST-MODIFIED:20260219T140720Z
URL:https://www.akbild.ac.at/de/institute/kunstlerisches-lehramt/veranstal
 tungen/aktuelles/2026/relevance-accessibility-and-personal-stake-core-agen
 da-in-art-and-design-education-arts-based-research-and-art-and-design-prod
 uction
END:VEVENT
BEGIN:VTIMEZONE
TZID:Europe/Vienna
X-LIC-LOCATION:Europe/Vienna
BEGIN:STANDARD
DTSTART:20251026T020000
TZNAME:CET
TZOFFSETFROM:+0200
TZOFFSETTO:+0100
END:STANDARD
END:VTIMEZONE
END:VCALENDAR
