BEGIN:VCALENDAR
VERSION:2.0
PRODID:-//Plone.org//NONSGML plone.app.event//EN
X-WR-TIMEZONE:Europe/Vienna
BEGIN:VEVENT
SUMMARY:Street Art Workshop: Stencil as a Critical Visual Language
DTSTART;TZID=Europe/Vienna:20260122T130000
DTEND;TZID=Europe/Vienna:20260122T170000
DTSTAMP:20260422T070600Z
UID:b08f70b2191e4306ae0108a9d6763c60@www.akbild.ac.at
CATEGORIES:Vorträge / Veranstaltungen
CREATED:20260112T102339Z
DESCRIPTION:Dieser Workshop bietet eine Einführung in die kritische visue
 lle Sprache von Stencils (deutsch: Schablonen) und Stencil-basierter Stree
 t Art. Eine Veranstaltung organisiert von Stefanie Wuschitz im Rahmen des 
 FWF Projekts V994 (Elise Richter PEEK).
LAST-MODIFIED:20260219T125957Z
URL:https://www.akbild.ac.at/de/institute/kunstlerisches-lehramt/veranstal
 tungen/aktuelles/2026/street-art-workshop-stencil-as-a-critical-visual-lan
 guage
END:VEVENT
BEGIN:VTIMEZONE
TZID:Europe/Vienna
X-LIC-LOCATION:Europe/Vienna
BEGIN:STANDARD
DTSTART:20251026T020000
TZNAME:CET
TZOFFSETFROM:+0200
TZOFFSETTO:+0100
END:STANDARD
END:VTIMEZONE
END:VCALENDAR
