BEGIN:VCALENDAR
VERSION:2.0
PRODID:-//Plone.org//NONSGML plone.app.event//EN
X-WR-TIMEZONE:Europe/Vienna
BEGIN:VEVENT
SUMMARY:Spuren/Schichten
DTSTART;TZID=Europe/Vienna:20160609T190000
DTSTAMP:20260425T104542Z
UID:1e18d215ccff72729e13bb2419743527@www.akbild.ac.at
CREATED:20220312T093510Z
DESCRIPTION:Eine Präsentation der künstlerisch-pädagogischen Zusammenar
 beit von PROSA / Akademie der bildenden Künste Wien / Kunstraum Niederoes
 terreich (in Kooperation mit AgidS Akademie geht in die Schule).
LAST-MODIFIED:20240919T081255Z
URL:https://www.akbild.ac.at/de/institute/kunstlerisches-lehramt/veranstal
 tungen/ausstellungen-vermittlung/2016/spuren-schichten/SubEvent
END:VEVENT
BEGIN:VTIMEZONE
TZID:Europe/Vienna
X-LIC-LOCATION:Europe/Vienna
BEGIN:DAYLIGHT
DTSTART:20160327T030000
TZNAME:CEST
TZOFFSETFROM:+0100
TZOFFSETTO:+0200
END:DAYLIGHT
END:VTIMEZONE
END:VCALENDAR
