BEGIN:VCALENDAR
VERSION:2.0
PRODID:-//Plone.org//NONSGML plone.app.event//EN
X-WR-TIMEZONE:Europe/Vienna
BEGIN:VEVENT
SUMMARY:Turning Education
DTSTART;VALUE=DATE:20131010
DTEND;VALUE=DATE:20131012
DTSTAMP:20260422T014616Z
UID:ba323c66f73c1f0cb65c20440d8ebb1f@www.akbild.ac.at
CATEGORIES:Konferenzen
CREATED:20220312T094452Z
DESCRIPTION:Symposium veranstaltet Institut für das künstlerische Lehram
 t.
LAST-MODIFIED:20240919T081314Z
URL:https://www.akbild.ac.at/de/institute/kunstlerisches-lehramt/veranstal
 tungen/konferenzen/2013/akbild_event.2013-09-18.0314723101
END:VEVENT
END:VCALENDAR
